Workbook

Sheet Caraterização Candidatura
F1: AVISO N.º 155/C19.i01.01/2015
C3: ANEXO I: FICHA DE CARATERIZAÇÃO DA CANDIDATURA
C4: * campo de preenchimento obrigatório
D5: Caraterização da Candidatura
D8: ENTIDADE *
D12: GESTOR DE PROJETO*
F13: NOME | J13: e-mail
D14: Responsável pela Coordenação e Execução do projeto
F15: CARGO | J15: Telefone
D20: TIPOLOGIAS A ADERIR*
F21: Adesão | J21: Limite de Financiamento
D22: A - Catálogo Unico de Serviços Públicos (CUSP) | F22: Sim | J22: =IF(F22="Sim",15000,0) -> 15000
D23: B - Plataforma de mensagens da AP (GAP) | F23: Sim | J23: =IF(F23="Sim",20000,0) -> 20000
D24: C - Plataforma de Pagamentos (PPAP) | F24: Sim | J24: =IF(F24="Sim",15000,0) -> 15000
J25: =SUM(J22:J24) -> 50000
D30: INVESTIMENTO
D31: TIPOLOGIAS DE DESPESA | F31: OBJETIVO /ATIVIDADE | H31: TIPOLOGIA | J31: VALOR DO FINANCIAMENTO (sem IVA)
D32: Aquisição de serviços a terceiros, incluindo assistência técnica e consultoria, quando demonstrada inequivocamente a sua necessidade para a operação (e.g., desenvolvimento, evolução e manutenção dos serviços (API ou outros), anonimização ou pseudo anonimização de dados na origem, direito e propriedade dos dados, segurança da informação, capacitação);
H33: <SELECIONAR OPÇÃO> | J33: 0
H34: <SELECIONAR OPÇÃO> | J34: 0
H35: <SELECIONAR OPÇÃO> | J35: 0
H36: <SELECIONAR OPÇÃO> | J36: 0
H37: <SELECIONAR OPÇÃO> | J37: 0
H38: <SELECIONAR OPÇÃO> | J38: 0
D40: Hardware, desde que seja para garantir o desempenho, escalabilidade e eficiência dos serviços a financiar, que não poderão representar mais de 20% do total das despesas elegíveis da operação;
H41: <SELECIONAR OPÇÃO> | J41: 0
H42: <SELECIONAR OPÇÃO> | J42: 0
H43: <SELECIONAR OPÇÃO> | J43: 0
H44: <SELECIONAR OPÇÃO> | J44: 0
H45: <SELECIONAR OPÇÃO> | J45: 0
H46: <SELECIONAR OPÇÃO> | J46: 0
D48: Software, desde que essencial para viabilizar o desenvolvimento e gestão dos serviços a financiar, devendo estar assegurada a sustentabilidade da solução no longo prazo;
H49: <SELECIONAR OPÇÃO> | J49: 0
H50: <SELECIONAR OPÇÃO> | J50: 0
H51: <SELECIONAR OPÇÃO> | J51: 0
H52: <SELECIONAR OPÇÃO> | J52: 0
H53: <SELECIONAR OPÇÃO> | J53: 0
H54: <SELECIONAR OPÇÃO> | J54: 0
D56: Despesas com promoção e Divulgação com Promoção e Divulgação dos Serviços e/ou Novas Funcionalidades, não poderão representar mais de 5% do total das despesas elegíveis da operação
H57: <SELECIONAR OPÇÃO> | J57: 0
...

Sheet Descrição por Tipologia
C3: ANEXO I: FICHA DE CARATERIZAÇÃO DA CANDIDATURA
D5: Descrição das Tipologias
D6: Detalhar o que se pretende atingir em cada uma das tipologias, com a descrição dos sistemas e serviços objeto de intervenção
D9: A - Catálogo Unico de Serviços Públicos (CUSP)
H11: Observações/Evidências a anexar | J11: Nome do Anexo
D12: CONDIÇÕES ESPECÍFICAS | F12: Demonstrar o levantamento da totalidade dos serviços/procedimentos/pontos de atendimento disponibilizados pela Entidade ao Cidadão/Empresa
F14: Demonstrar o nível de detalhe na catalogação dos serviços/procedimentos/pontos de atendimento identificados pelo levantamento efetuado
D19: B - Plataforma de mensagens da AP (GAP)
H20: Observações/Evidências a anexar | J20: Nome do Anexo
D21: CONDIÇÕES ESPECÍFICAS | F21: Descrever a finalidade para a utilização do serviço
D29: C - Plataforma de Pagamentos (PPAP)
H30: Observações/Evidências a anexar | J30: Nome do Anexo
D31: CONDIÇÕES ESPECÍFICAS | F31: Descrever a finalidade para a utilização do serviço

Sheet Estratégia
A1: Alinhamento Estratégico e Tecnológico (30%) – Contributo para as políticas e estratégias nacionais na área dos Serviços Digitais e para o alinhamento com os princípios de Governo Digital:
A4: Alinhamento Estratégico | B4: Pontuação | C4: =IF(C9<2,1,IF(C9<3,3,5)) -> 3
A5: Parâmetros - A1(40%) | B5: Verificação | C5: Pontuação | D5: Justificação | E5: Evidências | F5: Anexos
A6: DL49/24 | B6: Sim | C6: =IF(B6="Sim",1,IF(B6="Não",0,IF(B6="Sem candidatura","-","Sem dados"))) -> 1
A7: Estratégia Digital Nacional | B7: Não | C7: =IF(B7="Sim",1,IF(B7="Não",0,IF(B7="Sem candidatura","-","Sem dados"))) -> 0
A8: SIMPLEX | B8: Sim | C8: =IF(B8="Sim",1,IF(B8="Não",0,IF(B8="Sem candidatura","-","Sem dados"))) -> 1
B9: Total: | C9: =SUM(C6:C8) -> 2
A11: Alinhamento com princípios do DL49/2024 | B11: Pontuação | C11: 3
A12: Alinhamento com princípios do DL49/2024 | B12: Pontuação | C12: =IF(C17<2,1,IF(C17<3,3,5)) -> 3
A13: Parâmetros - A2(60%) | B13: Verificação | C13: Pontuação | D13: Justificação da Não Aplicabilidade | E13: Evidências | F13: Anexos
A14: CUSP | B14: Não | C14: =IF(B14="Não",0,1) -> 0
A15: GAP | B15: Sim - Adotado previamente* | C15: =IF(B15="Não",0,1) -> 1
A16: PPAP | B16: Sim - Adotado previamente* | C16: =IF(B16="Não",0,1) -> 1
B17: Total: | C17: =SUM(C14:C16) -> 2
C18: =IFERROR(SUM(C15:C17),0) -> 4
A19: OBS:
A20: Sim - Adotado previamente* - Quando a candidatura não prevê a adoção, porque já aderiram previamente, situação que deve ser demontrada e objeto de validação em sede de avaliação
A21: Não aplicável** - Quando o alinhamento não é aplicável, o que obrigatoriamente tem de ser fundamentado e objeto de validação em sede de avaliação.

Sheet Alcance
A1: Alcance (50%) - Alcance total é média do Alcance CUSP, Alcance GAP e Alcance PPAP
A3: A - Catálogo Unico de Serviços Públicos (CUSP)
A5: Artefactos | B5: % de serviços disponibilizados por população abrangida (CUSP) | C5: Pressupostos da estimativa/justificação
A6: % Serviços* | B6: 0.75 | C6: =IF(B6=0,"",IF(B6<26%,"0-25%",IF(B6<51%,"26-50%",IF(B6<76%,"51-75%","76-100%")))) -> 51-75%
A7: População abrangida | B7: 9000 | C7: =IF(B7=0, "",IF(B7<10000," Até 10.000",IF(B7<100001," 10.000 a 100.000",IF(B7<500001," 100.001 a 500.000"," Superior a 500.000")))) -> Até 10.000
A8: % de serviços disponibilizados / população abrangida | B8: =CONCATENATE(C6,C7) -> 51-75% Até 10.000 | C8: Pontuação | D8: =VLOOKUP(B8,AUX!G:I,3,FALSE) -> 2
A11: B - Plataforma de mensagens da AP (GAP)
A12: Artefactos | B12: Volume de utilização estimado anual (mensagens) | C12: Pressupostos da estimativa/justificação
A13: Mensagens | B13: 2500
A14: N.º TOTAL MENSAGENS | B14: =B13 -> 2500 | C14: Pontuação | D14: =IF(B14=0, "",IF(B14<1000,1,IF(B14<5000,2,IF(B14<10000,3,IF(B14<50000,4,5))))) -> 2
A17: C - Plataforma de Pagamentos (PPAP)
A18: Artefactos | B18: Volume de utilização esperado anual (pagamentos) | C18: Pressupostos da estimativa/justificação
A19: Pagamentos | B19: 2500
A20: N.º TOTAL PAGAMENTOS | B20: =B19 -> 2500 | C20: Pontuação | D20: =IF(B20=0, "",IF(B20<200,1,IF(B20<1000,2,IF(B20<2000,3,IF(B20<10000,4,5))))) -> 4
A21: OBS:
A22: *% de serviços - percentagem de serviços disponibilizados no catálogo unico de serviços, do total dos serviços da Entidade.

Sheet Sustentabilidade
A1: Sustentabilidade (20%): Impacto a longo prazo da solução implementada
A3: Redução de custos operacionais e otimização de recursos | B3: Pontuação | C3: =IFERROR(AVERAGE(C5:C7),0) -> 3 | D3: Justificação e quantificação para o impacto estimado | E3: Identifique indicadores e evidências | F3: Nome dos Anexos
A4: Como classifica o impacto esperado do projeto na redução de custos operacionais e otimização de recursos na sequência da utilização de: | B4: Impacto | C4: Pontuação
A5: A - Catálogo Unico de Serviços Públicos (CUSP) | B5: Médio | C5: =IF(B5="Fraco",1,IF(B5="Médio",3,IF(B5="Forte",5,IF(B5="Sem candidatura","-","Sem dados")))) -> 3
A6: B - Plataforma de mensagens da AP (GAP) | B6: Fraco | C6: =IF(B6="Fraco",1,IF(B6="Médio",3,IF(B6="Forte",5,IF(B6="Sem candidatura","-","Sem dados")))) -> 1
A7: C - Plataforma de Pagamentos (PPAP) | B7: Forte | C7: =IF(B7="Fraco",1,IF(B7="Médio",3,IF(B7="Forte",5,IF(B7="Sem candidatura","-","Sem dados")))) -> 5

Sheet Mérito
A1: MÉRITO OPERAÇÃO - MO = (0,3 * Alinhamento Estratégico e Tecnológico) + (0,5 * Alcance) + (0,2 * SustentibilidadeSustentabilidade) | D1: =(0.3*D4)+(0.5*D16)+(0.2*D37) -> 2.6533333
A4: A - Alinhamento Estratégico e Tecnológico - Alinhamento Estratégico (40%) e Alinhamento com princípios do DL49/2024 (60%) | D4: =(0.4*D6)+(0.6*D11) -> 2.4
A6: A1 - Alinhamento Estratégico (40%) | D6: =Estratégia!C4 -> 3
A7: 3 parâmetros | C7: 5
A8: 2 parâmetros | C8: 3
A9: 1 parâmetro | C9: 1
A11: Alinhamento com princípios do DL49/2024 (60%) | D11: =Estratégia!C17 -> 2
A12: 3 parâmetros | C12: 5
A13: 2 parâmetros | C13: 3
A14: 1 parâmetro | C14: 1
A16: Alcance total é média do Alcance CUSP, Alcance GAP e Alcance PPAP | D16: =AVERAGE(D18,D21,D28) -> 2.6666667
A18: Alcance do CUSP | D18: =Alcance!D8 -> 2
A19: =Alcance!B8 -> 51-75% Até 10.000 | C19: =Alcance!D8 -> 2
A21: Alcance da GAP | D21: =Alcance!D14 -> 2
A22: 0 - 1.000 | C22: 1
A23: 1.001 - 5.000 | C23: 2
A24: 5.001 - 10.000 | C24: 3
A25: 10.001 - 50.000 | C25: 4
A26: > 50.000 | C26: 5
A28: Alcance da PPAP | D28: =Alcance!D20 -> 4
A29: 0 - 200 | C29: 1
A30: 201 - 1.000 | C30: 2
A31: 1.001 - 2.000 | C31: 3
A32: 2.001 - 10.000 | C32: 4
A33: > 10.000 | C33: 5
A36: Sustentabilidade (10%): Médio do impacto a longo prazo das soluções implementadas
A37: Redução de custos operacionais e otimização de recursos | C37: Pontuação | D37: =Sustentabilidade!C3 -> 3
A38: Fraco – Pouca ou nenhuma redução de custos operacionais e otimização de recursos | C38: 1
A39: Médio - Alguma redução de custos operacionais e otimização de recursos | C39: 3
A40: Forte - Elevada redução de custos operacionais e otimização de recursos | C40: 5

Sheet AUX
A1: <SELECIONAR OPÇÃO> | B1: <SELECIONAR OPÇÃO> | C1: <SELECIONAR OPÇÃO> | D1: <SELECIONAR OPÇÃO> | E1: <SELECIONAR OPÇÃO> | G1: 0-25% Até 10.000 | I1: 0.5
A2: Sim | B2: Fraco | C2: Ausência de código aberto ou documentação detalhada | D2: A - Catálogo Unico de Serviços Públicos (CUSP) | E2: Sim - Adoção em candidatura | G2: 26-50% Até 10.000 | I2: 1
A3: Não | B3: Médio | C3: Disponibilização de documentação detalhada que permita a replicação da solução | D3: B - Plataforma de mensagens da AP (GAP) | E3: Sim - Adotado previamente* | G3: 51-75% Até 10.000 | I3: 2
B4: Forte | C4: Disponibilização de código aberto | D4: C - Plataforma de Pagamentos (PPAP) | E4: Não aplicável** | G4: 76-100% Até 10.000 | I4: 3
B5: Sem candidatura | C5: Sem candidatura | E5: Não | G5: 0-25% 10.000 a 100.000 | I5: 1
G6: 26-50% 10.000 a 100.000 | I6: 2
G7: 51-75% 10.000 a 100.000 | I7: 3
G8: 76-100% 10.000 a 100.000 | I8: 4
G9: 0-25% 100.001 a 500.000 | I9: 2
G10: 26-50% 100.001 a 500.000 | I10: 3
G11: 51-75% 100.001 a 500.000 | I11: 4
G12: 76-100% 100.001 a 500.000 | I12: 4.5
G13: 0-25% Superior a 500.000 | I13: 3
G14: 26-50% Superior a 500.000 | I14: 4
G15: 51-75% Superior a 500.000 | I15: 4.5
G16: 76-100% Superior a 500.000 | I16: 5
